BEGIN:VCALENDAR
VERSION:2.0
PRODID:spatie/icalendar-generator
DESCRIPTION:Events from IAMAW Local Lodge 2797
X-WR-CALDESC:Events from IAMAW Local Lodge 2797
REFRESH-INTERVAL;VALUE=DURATION:PT1440M
X-PUBLISHED-TTL:PT1440M
BEGIN:VTIMEZONE
TZID:Etc/GMT+0
BEGIN:STANDARD
DTSTART:20220803T000000Z
TZOFFSETFROM:+0000
TZOFFSETTO:+0000
END:STANDARD
END:VTIMEZONE
BEGIN:VTIMEZONE
TZID:UTC
BEGIN:STANDARD
DTSTART:20250725T084714Z
TZOFFSETFROM:+0000
TZOFFSETTO:+0000
END:STANDARD
END:VTIMEZONE
BEGIN:VEVENT
UID:86-61
DTSTAMP:20260421T084714Z
SUMMARY:Mayworks
LOCATION:
ORGANIZER;CN=Roswita Hildebrandt:MAILTO:roswita.hildebrandt@gmail.com
DTSTART;TZID=Etc/GMT+0;VALUE=DATE:20230430
DTEND;TZID=Etc/GMT+0;VALUE=DATE:20230607
X-ALT-DESC;FMTTYPE=TEXT/HTML:About Mayworks and May Day May 1st is marked t
 hroughout the world as International Workers’ Day\, or May Day. A day 
 when the workers of the world take to the streets (when not facing a pande
 mic) in every major city around the globe demanding justice\, fairness and
  dignity for all. In North America\, May Day has not&amp;hellip\;
CATEGORIES:Affiliate Convention
URL;VALUE=URI:https://iamaw2797.ca/mc-events/mayworks-2/
METHOD:PUBLISH
END:VEVENT
END:VCALENDAR