BEGIN:VCALENDAR
VERSION:2.0
PRODID:spatie/icalendar-generator
DESCRIPTION:Events from IAMAW Local Lodge 2797
X-WR-CALDESC:Events from IAMAW Local Lodge 2797
REFRESH-INTERVAL;VALUE=DURATION:PT1440M
X-PUBLISHED-TTL:PT1440M
BEGIN:VTIMEZONE
TZID:Etc/GMT+0
BEGIN:STANDARD
DTSTART:20210624T000000Z
TZOFFSETFROM:+0000
TZOFFSETTO:+0000
END:STANDARD
END:VTIMEZONE
BEGIN:VTIMEZONE
TZID:UTC
BEGIN:STANDARD
DTSTART:20250723T141113Z
TZOFFSETFROM:+0000
TZOFFSETTO:+0000
END:STANDARD
END:VTIMEZONE
BEGIN:VEVENT
UID:13-13
DTSTAMP:20260419T141113Z
SUMMARY:International Day for the Elimination of Racial Discrimination
LOCATION:
ORGANIZER;CN=Roswita Hildebrandt:MAILTO:roswita.hildebrandt@gmail.com
DTSTART;TZID=Etc/GMT+0;VALUE=DATE:20220321
DTEND;TZID=Etc/GMT+0;VALUE=DATE:20220322
X-ALT-DESC;FMTTYPE=TEXT/HTML:http://www.un.org/en/events/racialdiscriminati
 onday/
CATEGORIES:General
URL;VALUE=URI:https://iamaw2797.ca/mc-events/international-day-for-the-elim
 ination-of-racial-discrimination/
METHOD:PUBLISH
END:VEVENT
END:VCALENDAR